BEGIN:VCALENDAR
VERSION:2.0
PRODID:-//Buffalo Rock - ECPv6.15.20//NONSGML v1.0//EN
CALSCALE:GREGORIAN
METHOD:PUBLISH
X-ORIGINAL-URL:https://buffalorockbrewing.com
X-WR-CALDESC:Events for Buffalo Rock
REFRESH-INTERVAL;VALUE=DURATION:PT1H
X-Robots-Tag:noindex
X-PUBLISHED-TTL:PT1H
BEGIN:VTIMEZONE
TZID:America/Detroit
BEGIN:DAYLIGHT
TZOFFSETFROM:-0500
TZOFFSETTO:-0400
TZNAME:EDT
DTSTART:20210314T070000
END:DAYLIGHT
BEGIN:STANDARD
TZOFFSETFROM:-0400
TZOFFSETTO:-0500
TZNAME:EST
DTSTART:20211107T060000
END:STANDARD
BEGIN:DAYLIGHT
TZOFFSETFROM:-0500
TZOFFSETTO:-0400
TZNAME:EDT
DTSTART:20220313T070000
END:DAYLIGHT
BEGIN:STANDARD
TZOFFSETFROM:-0400
TZOFFSETTO:-0500
TZNAME:EST
DTSTART:20221106T060000
END:STANDARD
BEGIN:DAYLIGHT
TZOFFSETFROM:-0500
TZOFFSETTO:-0400
TZNAME:EDT
DTSTART:20230312T070000
END:DAYLIGHT
BEGIN:STANDARD
TZOFFSETFROM:-0400
TZOFFSETTO:-0500
TZNAME:EST
DTSTART:20231105T060000
END:STANDARD
BEGIN:DAYLIGHT
TZOFFSETFROM:-0500
TZOFFSETTO:-0400
TZNAME:EDT
DTSTART:20240310T070000
END:DAYLIGHT
BEGIN:STANDARD
TZOFFSETFROM:-0400
TZOFFSETTO:-0500
TZNAME:EST
DTSTART:20241103T060000
END:STANDARD
BEGIN:DAYLIGHT
TZOFFSETFROM:-0500
TZOFFSETTO:-0400
TZNAME:EDT
DTSTART:20250309T070000
END:DAYLIGHT
BEGIN:STANDARD
TZOFFSETFROM:-0400
TZOFFSETTO:-0500
TZNAME:EST
DTSTART:20251102T060000
END:STANDARD
BEGIN:DAYLIGHT
TZOFFSETFROM:-0500
TZOFFSETTO:-0400
TZNAME:EDT
DTSTART:20260308T070000
END:DAYLIGHT
BEGIN:STANDARD
TZOFFSETFROM:-0400
TZOFFSETTO:-0500
TZNAME:EST
DTSTART:20261101T060000
END:STANDARD
END:VTIMEZONE
BEGIN:VEVENT
DTSTART;TZID=America/Detroit:20250801T170000
DTEND;TZID=America/Detroit:20250801T203000
DTSTAMP:20260424T120311
CREATED:20250801T211419Z
LAST-MODIFIED:20250801T211419Z
UID:838-1754067600-1754080200@buffalorockbrewing.com
SUMMARY:Saucy Slamwich Food Truck
DESCRIPTION:Saucy Slamwich Food Truck
URL:https://buffalorockbrewing.com/event/saucy-slamwich-food-truck-4/
LOCATION:Buffalo Rock Brewing Company – Waterville\, 345 Anthony Wayne Trail\, Waterville\, OH\, 43566
CATEGORIES:Food Truck
ATTACH;FMTTYPE=image/jpeg:https://buffalorockbrewing.com/wp-content/uploads/2022/04/Saucy-Slamwich.jpg
END:VEVENT
BEGIN:VEVENT
DTSTART;TZID=America/Detroit:20230311T190000
DTEND;TZID=America/Detroit:20230311T220000
DTSTAMP:20260424T120311
CREATED:20230307T205801Z
LAST-MODIFIED:20241121T202341Z
UID:686-1678561200-1678572000@buffalorockbrewing.com
SUMMARY:Kyle White at Buffalo Rock
DESCRIPTION:Kyle White live at Buffalo Rock!
URL:https://buffalorockbrewing.com/event/kyle-white-at-buffalo-rock-2/
LOCATION:Buffalo Rock Brewing Company – Waterville\, 345 Anthony Wayne Trail\, Waterville\, OH\, 43566
CATEGORIES:Entertainment
ATTACH;FMTTYPE=image/jpeg:https://buffalorockbrewing.com/wp-content/uploads/2022/06/Kyle-White.jpg
END:VEVENT
BEGIN:VEVENT
DTSTART;TZID=America/Detroit:20230311T160000
DTEND;TZID=America/Detroit:20230311T210000
DTSTAMP:20260424T120311
CREATED:20230307T205952Z
LAST-MODIFIED:20230307T205952Z
UID:687-1678550400-1678568400@buffalorockbrewing.com
SUMMARY:Saucy Slamwich Food Truck
DESCRIPTION:Saucy Slamwich Food Truck
URL:https://buffalorockbrewing.com/event/saucy-slamwich-food-truck-3/
LOCATION:Buffalo Rock Brewing Company – Waterville\, 345 Anthony Wayne Trail\, Waterville\, OH\, 43566
CATEGORIES:Food Truck
ATTACH;FMTTYPE=image/jpeg:https://buffalorockbrewing.com/wp-content/uploads/2022/04/Saucy-Slamwich.jpg
END:VEVENT
BEGIN:VEVENT
DTSTART;TZID=America/Detroit:20230310T190000
DTEND;TZID=America/Detroit:20230310T220000
DTSTAMP:20260424T120311
CREATED:20230307T205352Z
LAST-MODIFIED:20230307T205352Z
UID:684-1678474800-1678485600@buffalorockbrewing.com
SUMMARY:EZ Pickenz at Buffalo Rock
DESCRIPTION:EZ Pickenz live at Buffalo Rock
URL:https://buffalorockbrewing.com/event/ez-pickenz-at-buffalo-rock-2/
LOCATION:Buffalo Rock Brewing Company – Waterville\, 345 Anthony Wayne Trail\, Waterville\, OH\, 43566
CATEGORIES:Entertainment
ATTACH;FMTTYPE=image/jpeg:https://buffalorockbrewing.com/wp-content/uploads/2022/03/ez-pickenz.jpeg
END:VEVENT
BEGIN:VEVENT
DTSTART;TZID=America/Detroit:20230310T170000
DTEND;TZID=America/Detroit:20230310T210000
DTSTAMP:20260424T120311
CREATED:20230307T205640Z
LAST-MODIFIED:20230307T205640Z
UID:685-1678467600-1678482000@buffalorockbrewing.com
SUMMARY:Captain's Kitchen Food Truck
DESCRIPTION:The Captain’s Kitchen Food Truck
URL:https://buffalorockbrewing.com/event/captains-kitchen-food-truck-16/
LOCATION:Buffalo Rock Brewing Company – Waterville\, 345 Anthony Wayne Trail\, Waterville\, OH\, 43566
CATEGORIES:Food Truck
ATTACH;FMTTYPE=image/png:https://buffalorockbrewing.com/wp-content/uploads/2022/05/Captains-Kitchen.png
END:VEVENT
BEGIN:VEVENT
DTSTART;TZID=America/Detroit:20230309T180000
DTEND;TZID=America/Detroit:20230309T210000
DTSTAMP:20260424T120311
CREATED:20230307T204840Z
LAST-MODIFIED:20230307T204840Z
UID:682-1678384800-1678395600@buffalorockbrewing.com
SUMMARY:Johnny Rodriquez at Buffalo Rock
DESCRIPTION:Johnny Rodriguez live at Buffalo Rock
URL:https://buffalorockbrewing.com/event/johnny-rodriquez-at-buffalo-rock/
LOCATION:Buffalo Rock Brewing Company – Waterville\, 345 Anthony Wayne Trail\, Waterville\, OH\, 43566
CATEGORIES:Entertainment
ATTACH;FMTTYPE=image/jpeg:https://buffalorockbrewing.com/wp-content/uploads/2022/04/Johnny-Rodriguez.jpg
END:VEVENT
BEGIN:VEVENT
DTSTART;TZID=America/Detroit:20230309T163000
DTEND;TZID=America/Detroit:20230309T203000
DTSTAMP:20260424T120311
CREATED:20230307T205206Z
LAST-MODIFIED:20230307T205206Z
UID:683-1678379400-1678393800@buffalorockbrewing.com
SUMMARY:Toledo Chuck Wagon Food Truck
DESCRIPTION:Toledo Chuck Wagon Food Truck
URL:https://buffalorockbrewing.com/event/toledo-chuck-wagon-food-truck-2/
LOCATION:Buffalo Rock Brewing Company – Waterville\, 345 Anthony Wayne Trail\, Waterville\, OH\, 43566
CATEGORIES:Food Truck
ATTACH;FMTTYPE=image/jpeg:https://buffalorockbrewing.com/wp-content/uploads/2022/08/Toledo-Chuck-Wagon.jpg
END:VEVENT
BEGIN:VEVENT
DTSTART;TZID=America/Detroit:20230308T180000
DTEND;TZID=America/Detroit:20230308T210000
DTSTAMP:20260424T120311
CREATED:20230307T204619Z
LAST-MODIFIED:20230307T204619Z
UID:680-1678298400-1678309200@buffalorockbrewing.com
SUMMARY:Aaron Hertzfeld at Buffalo Rock
DESCRIPTION:Aaron Hertzfeld live at Buffalo Rock
URL:https://buffalorockbrewing.com/event/aaron-hertzfeld-at-buffalo-rock/
LOCATION:Buffalo Rock Brewing Company – Waterville\, 345 Anthony Wayne Trail\, Waterville\, OH\, 43566
CATEGORIES:Entertainment
ATTACH;FMTTYPE=image/jpeg:https://buffalorockbrewing.com/wp-content/uploads/2022/04/Aaron-Hertzfeld.jpg
END:VEVENT
BEGIN:VEVENT
DTSTART;TZID=America/Detroit:20230308T163000
DTEND;TZID=America/Detroit:20230308T203000
DTSTAMP:20260424T120311
CREATED:20230307T204723Z
LAST-MODIFIED:20230307T204723Z
UID:681-1678293000-1678307400@buffalorockbrewing.com
SUMMARY:Queso Kitchen Food Truck
DESCRIPTION:Queso Kitchen Food Truck
URL:https://buffalorockbrewing.com/event/queso-kitchen-food-truck-7/
LOCATION:Buffalo Rock Brewing Company – Waterville\, 345 Anthony Wayne Trail\, Waterville\, OH\, 43566
CATEGORIES:Food Truck
ATTACH;FMTTYPE=image/jpeg:https://buffalorockbrewing.com/wp-content/uploads/2022/04/Queso-Kithcen.jpg
END:VEVENT
BEGIN:VEVENT
DTSTART;TZID=America/Detroit:20230307T190000
DTEND;TZID=America/Detroit:20230307T210000
DTSTAMP:20260424T120311
CREATED:20230307T204238Z
LAST-MODIFIED:20230307T204238Z
UID:677-1678215600-1678222800@buffalorockbrewing.com
SUMMARY:Mark Sims Music
DESCRIPTION:Mark Sims Music
URL:https://buffalorockbrewing.com/event/mark-sims-music/
LOCATION:Buffalo Rock Brewing Company – Waterville\, 345 Anthony Wayne Trail\, Waterville\, OH\, 43566
CATEGORIES:Entertainment
ATTACH;FMTTYPE=image/jpeg:https://buffalorockbrewing.com/wp-content/uploads/2023/03/Mark-Sims.jpg
END:VEVENT
BEGIN:VEVENT
DTSTART;TZID=America/Detroit:20230307T163000
DTEND;TZID=America/Detroit:20230307T203000
DTSTAMP:20260424T120311
CREATED:20230307T204419Z
LAST-MODIFIED:20230307T204419Z
UID:679-1678206600-1678221000@buffalorockbrewing.com
SUMMARY:Queso Kitchen Food Truck
DESCRIPTION:Queso Kitchen Food Truck
URL:https://buffalorockbrewing.com/event/queso-kitchen-food-truck-6/
LOCATION:Buffalo Rock Brewing Company – Waterville\, 345 Anthony Wayne Trail\, Waterville\, OH\, 43566
CATEGORIES:Food Truck
ATTACH;FMTTYPE=image/jpeg:https://buffalorockbrewing.com/wp-content/uploads/2022/04/Queso-Kithcen.jpg
END:VEVENT
BEGIN:VEVENT
DTSTART;TZID=America/Detroit:20230114T100000
DTEND;TZID=America/Detroit:20230114T233000
DTSTAMP:20260424T120311
CREATED:20230113T180506Z
LAST-MODIFIED:20230113T180506Z
UID:668-1673690400-1673739000@buffalorockbrewing.com
SUMMARY:Belly Dancing with House of Mesmeric
DESCRIPTION:Reach out to House of Mesmeric to join this event
URL:https://buffalorockbrewing.com/event/belly-dancing-with-house-of-mesmeric/
LOCATION:Buffalo Rock Brewing Company – Waterville\, 345 Anthony Wayne Trail\, Waterville\, OH\, 43566
CATEGORIES:Entertainment
ATTACH;FMTTYPE=image/jpeg:https://buffalorockbrewing.com/wp-content/uploads/2023/01/House-of-Mesmeric.jpg
END:VEVENT
BEGIN:VEVENT
DTSTART;TZID=America/Detroit:20230113T163000
DTEND;TZID=America/Detroit:20230113T210000
DTSTAMP:20260424T120311
CREATED:20221025T153435Z
LAST-MODIFIED:20230113T175933Z
UID:628-1673627400-1673643600@buffalorockbrewing.com
SUMMARY:Captain's Kitchen Food Truck
DESCRIPTION:The Captain’s Kitchen Food Truck
URL:https://buffalorockbrewing.com/event/captains-kitchen-food-truck-15/
LOCATION:Buffalo Rock Brewing Company – Waterville\, 345 Anthony Wayne Trail\, Waterville\, OH\, 43566
CATEGORIES:Food Truck
ATTACH;FMTTYPE=image/png:https://buffalorockbrewing.com/wp-content/uploads/2022/05/Captains-Kitchen.png
END:VEVENT
BEGIN:VEVENT
DTSTART;TZID=America/Detroit:20221112T190000
DTEND;TZID=America/Detroit:20221112T220000
DTSTAMP:20260424T120311
CREATED:20221110T183726Z
LAST-MODIFIED:20221110T183726Z
UID:653-1668279600-1668290400@buffalorockbrewing.com
SUMMARY:Jeffrey Kerscher live at Buffalo Rock
DESCRIPTION:Jeffrey Kerscher live at Buffalo Rock
URL:https://buffalorockbrewing.com/event/jeffrey-kerscher-live-at-buffalo-rock/
LOCATION:Buffalo Rock Brewing Company – Waterville\, 345 Anthony Wayne Trail\, Waterville\, OH\, 43566
CATEGORIES:Entertainment
ATTACH;FMTTYPE=image/jpeg:https://buffalorockbrewing.com/wp-content/uploads/2022/11/Jeff-Kerscher.jpg
END:VEVENT
BEGIN:VEVENT
DTSTART;TZID=America/Detroit:20221112T120000
DTEND;TZID=America/Detroit:20221112T210000
DTSTAMP:20260424T120311
CREATED:20221110T182739Z
LAST-MODIFIED:20221110T182739Z
UID:650-1668254400-1668286800@buffalorockbrewing.com
SUMMARY:OTR Smokehouse
DESCRIPTION:In honor of Veteran’s Day\, we are doing a fundraiser with OTR Smokehouse for HOOVES.  Come out for a great cause!!
URL:https://buffalorockbrewing.com/event/otr-smokehouse/
LOCATION:Buffalo Rock Brewing Company – Waterville\, 345 Anthony Wayne Trail\, Waterville\, OH\, 43566
CATEGORIES:Food Truck
ATTACH;FMTTYPE=image/jpeg:https://buffalorockbrewing.com/wp-content/uploads/2022/05/OTR-Smokehouse.jpg
END:VEVENT
BEGIN:VEVENT
DTSTART;TZID=America/Detroit:20221111T190000
DTEND;TZID=America/Detroit:20221111T220000
DTSTAMP:20260424T120311
CREATED:20230113T175607Z
LAST-MODIFIED:20230113T175842Z
UID:666-1668193200-1668204000@buffalorockbrewing.com
SUMMARY:Chloe and the Steel Strings live at Buffalo Rock
DESCRIPTION:Chloe and the Steel Strings live at Buffalo Rock
URL:https://buffalorockbrewing.com/event/chloe-the-steel-strings-live-at-buffalo-rock-copy/
LOCATION:Buffalo Rock Brewing Company – Waterville\, 345 Anthony Wayne Trail\, Waterville\, OH\, 43566
CATEGORIES:Entertainment
ATTACH;FMTTYPE=image/jpeg:https://buffalorockbrewing.com/wp-content/uploads/2022/04/Chloe-and-the-Steel-Strings.jpg
END:VEVENT
BEGIN:VEVENT
DTSTART;TZID=America/Detroit:20221111T190000
DTEND;TZID=America/Detroit:20221111T220000
DTSTAMP:20260424T120311
CREATED:20221110T183028Z
LAST-MODIFIED:20221110T183028Z
UID:652-1668193200-1668204000@buffalorockbrewing.com
SUMMARY:Chloe & the Steel Strings live at Buffalo Rock
DESCRIPTION:Chloe and the Steel Strings live at Buffalo Rock
URL:https://buffalorockbrewing.com/event/chloe-the-steel-strings-live-at-buffalo-rock/
LOCATION:Buffalo Rock Brewing Company – Waterville\, 345 Anthony Wayne Trail\, Waterville\, OH\, 43566
CATEGORIES:Entertainment
ATTACH;FMTTYPE=image/jpeg:https://buffalorockbrewing.com/wp-content/uploads/2022/04/Chloe-and-the-Steel-Strings.jpg
END:VEVENT
BEGIN:VEVENT
DTSTART;TZID=America/Detroit:20221111T163000
DTEND;TZID=America/Detroit:20221111T210000
DTSTAMP:20260424T120311
CREATED:20221110T182350Z
LAST-MODIFIED:20221110T182457Z
UID:649-1668184200-1668200400@buffalorockbrewing.com
SUMMARY:Uncle Louie's Food Truck
DESCRIPTION:Uncle Louie’s Food Truck
URL:https://buffalorockbrewing.com/event/uncle-louies-food-truck-copy/
LOCATION:Buffalo Rock Brewing Company – Waterville\, 345 Anthony Wayne Trail\, Waterville\, OH\, 43566
CATEGORIES:Food Truck
END:VEVENT
BEGIN:VEVENT
DTSTART;TZID=America/Detroit:20221110T180000
DTEND;TZID=America/Detroit:20221110T210000
DTSTAMP:20260424T120311
CREATED:20221110T182914Z
LAST-MODIFIED:20221110T182914Z
UID:651-1668103200-1668114000@buffalorockbrewing.com
SUMMARY:Chris Shutters at Buffalo Rock
DESCRIPTION:Chris Shutters at Buffalo Rock
URL:https://buffalorockbrewing.com/event/chris-shutters-at-buffalo-rock-5/
LOCATION:Buffalo Rock Brewing Company – Waterville\, 345 Anthony Wayne Trail\, Waterville\, OH\, 43566
CATEGORIES:Entertainment
ATTACH;FMTTYPE=image/jpeg:https://buffalorockbrewing.com/wp-content/uploads/2022/04/Chris-Shutters.jpg
END:VEVENT
BEGIN:VEVENT
DTSTART;TZID=America/Detroit:20221110T163000
DTEND;TZID=America/Detroit:20221110T210000
DTSTAMP:20260424T120311
CREATED:20221110T182331Z
LAST-MODIFIED:20221110T182331Z
UID:647-1668097800-1668114000@buffalorockbrewing.com
SUMMARY:Uncle Louie's Food Truck
DESCRIPTION:Uncle Louie’s Food Truck
URL:https://buffalorockbrewing.com/event/uncle-louies-food-truck/
LOCATION:Buffalo Rock Brewing Company – Waterville\, 345 Anthony Wayne Trail\, Waterville\, OH\, 43566
CATEGORIES:Food Truck
END:VEVENT
BEGIN:VEVENT
DTSTART;TZID=America/Detroit:20221028T190000
DTEND;TZID=America/Detroit:20221028T220000
DTSTAMP:20260424T120311
CREATED:20221025T153716Z
LAST-MODIFIED:20221025T153716Z
UID:629-1666983600-1666994400@buffalorockbrewing.com
SUMMARY:Joe Woods at Buffalo Rock
DESCRIPTION:Joe Woods live at Buffalo Rock
URL:https://buffalorockbrewing.com/event/joe-woods-at-buffalo-rock/
LOCATION:Buffalo Rock Brewing Company – Waterville\, 345 Anthony Wayne Trail\, Waterville\, OH\, 43566
CATEGORIES:Entertainment
ATTACH;FMTTYPE=image/jpeg:https://buffalorockbrewing.com/wp-content/uploads/2022/04/Joe-Woods.jpeg
END:VEVENT
BEGIN:VEVENT
DTSTART;TZID=America/Detroit:20221028T163000
DTEND;TZID=America/Detroit:20221028T213000
DTSTAMP:20260424T120311
CREATED:20221025T153911Z
LAST-MODIFIED:20221025T153911Z
UID:630-1666974600-1666992600@buffalorockbrewing.com
SUMMARY:Smashdawgz Food Truck
DESCRIPTION:Smashdawgz Food Truck
URL:https://buffalorockbrewing.com/event/smashdawgz-food-truck-4/
LOCATION:Buffalo Rock Brewing Company – Waterville\, 345 Anthony Wayne Trail\, Waterville\, OH\, 43566
CATEGORIES:Food Truck
ATTACH;FMTTYPE=image/jpeg:https://buffalorockbrewing.com/wp-content/uploads/2022/04/Smashdawgs.jpg
END:VEVENT
BEGIN:VEVENT
DTSTART;TZID=America/Detroit:20221027T180000
DTEND;TZID=America/Detroit:20221027T210000
DTSTAMP:20260424T120311
CREATED:20221025T153325Z
LAST-MODIFIED:20221025T153325Z
UID:627-1666893600-1666904400@buffalorockbrewing.com
SUMMARY:Chris Shutters at Buffalo Rock
DESCRIPTION:Chris Shutters at Buffalo Rock
URL:https://buffalorockbrewing.com/event/chris-shutters-at-buffalo-rock-4/
LOCATION:Buffalo Rock Brewing Company – Waterville\, 345 Anthony Wayne Trail\, Waterville\, OH\, 43566
CATEGORIES:Entertainment
ATTACH;FMTTYPE=image/jpeg:https://buffalorockbrewing.com/wp-content/uploads/2022/04/Chris-Shutters.jpg
END:VEVENT
BEGIN:VEVENT
DTSTART;TZID=America/Detroit:20221026T180000
DTEND;TZID=America/Detroit:20221026T210000
DTSTAMP:20260424T120311
CREATED:20221025T151232Z
LAST-MODIFIED:20221025T151254Z
UID:625-1666807200-1666818000@buffalorockbrewing.com
SUMMARY:Jeff Steward at Buffalo Rock
DESCRIPTION:Jeff Steward live at Buffalo Rock
URL:https://buffalorockbrewing.com/event/jeff-steward-at-buffalo-rock/
LOCATION:Buffalo Rock Brewing Company – Waterville\, 345 Anthony Wayne Trail\, Waterville\, OH\, 43566
CATEGORIES:Entertainment
ATTACH;FMTTYPE=image/jpeg:https://buffalorockbrewing.com/wp-content/uploads/2022/04/Jeff-Steward.jpg
END:VEVENT
BEGIN:VEVENT
DTSTART;TZID=America/Detroit:20221026T163000
DTEND;TZID=America/Detroit:20221026T210000
DTSTAMP:20260424T120311
CREATED:20221025T151442Z
LAST-MODIFIED:20221025T153208Z
UID:626-1666801800-1666818000@buffalorockbrewing.com
SUMMARY:Cruising Cuisine Food Truck
DESCRIPTION:Cruising Cuisine Food Truck
URL:https://buffalorockbrewing.com/event/cruising-cuisine-food-truck-6/
LOCATION:Buffalo Rock Brewing Company – Waterville\, 345 Anthony Wayne Trail\, Waterville\, OH\, 43566
CATEGORIES:Food Truck
ATTACH;FMTTYPE=image/jpeg:https://buffalorockbrewing.com/wp-content/uploads/2022/04/Crusing-Cousine.jpg
END:VEVENT
BEGIN:VEVENT
DTSTART;TZID=America/Detroit:20221025T160000
DTEND;TZID=America/Detroit:20221025T210000
DTSTAMP:20260424T120311
CREATED:20221025T150458Z
LAST-MODIFIED:20221025T150537Z
UID:624-1666713600-1666731600@buffalorockbrewing.com
SUMMARY:Captain's Kitchen at Buffalo Rock
DESCRIPTION:The Captain’s Kitchen Food Truck
URL:https://buffalorockbrewing.com/event/captains-kitchen-at-buffalo-rock-2-copy/
LOCATION:Buffalo Rock Brewing Company – Waterville\, 345 Anthony Wayne Trail\, Waterville\, OH\, 43566
CATEGORIES:Food Truck
ATTACH;FMTTYPE=image/png:https://buffalorockbrewing.com/wp-content/uploads/2022/05/Captains-Kitchen.png
END:VEVENT
BEGIN:VEVENT
DTSTART;TZID=America/Detroit:20221025T160000
DTEND;TZID=America/Detroit:20221025T210000
DTSTAMP:20260424T120311
CREATED:20221025T150343Z
LAST-MODIFIED:20221025T150425Z
UID:623-1666713600-1666731600@buffalorockbrewing.com
SUMMARY:Original Tuesdays Open mic Night
DESCRIPTION:Original Tuesday Open Mic Night \nFeatures local music performing original songs.
URL:https://buffalorockbrewing.com/event/original-tuesdays-copy-copy-copy/
LOCATION:Buffalo Rock Brewing Company – Waterville\, 345 Anthony Wayne Trail\, Waterville\, OH\, 43566
CATEGORIES:Entertainment
END:VEVENT
BEGIN:VEVENT
DTSTART;TZID=America/Detroit:20221011T170000
DTEND;TZID=America/Detroit:20221011T200000
DTSTAMP:20260424T120311
CREATED:20221010T140947Z
LAST-MODIFIED:20221010T140947Z
UID:577-1665507600-1665518400@buffalorockbrewing.com
SUMMARY:Trip'n Biscuits Food Truck
DESCRIPTION:
URL:https://buffalorockbrewing.com/event/tripn-biscuits-food-truck/
LOCATION:Buffalo Rock Brewing Company – Waterville\, 345 Anthony Wayne Trail\, Waterville\, OH\, 43566
CATEGORIES:Food Truck
ATTACH;FMTTYPE=image/webp:https://buffalorockbrewing.com/wp-content/uploads/2022/08/Tripin-Buiscuits.webp
END:VEVENT
BEGIN:VEVENT
DTSTART;TZID=America/Detroit:20220924T190000
DTEND;TZID=America/Detroit:20220924T220000
DTSTAMP:20260424T120311
CREATED:20220829T192433Z
LAST-MODIFIED:20220829T192433Z
UID:548-1664046000-1664056800@buffalorockbrewing.com
SUMMARY:EZ Pickenz live at Buffalo Rock
DESCRIPTION:EZ Pickenz live at Buffalo Rock
URL:https://buffalorockbrewing.com/event/ez-pickenz-live-at-buffalo-rock-2/
LOCATION:Buffalo Rock Brewing Company – Waterville\, 345 Anthony Wayne Trail\, Waterville\, OH\, 43566
CATEGORIES:Entertainment
ATTACH;FMTTYPE=image/jpeg:https://buffalorockbrewing.com/wp-content/uploads/2022/03/ez-pickenz.jpeg
END:VEVENT
BEGIN:VEVENT
DTSTART;TZID=America/Detroit:20220924T130000
DTEND;TZID=America/Detroit:20220924T210000
DTSTAMP:20260424T120311
CREATED:20220829T191931Z
LAST-MODIFIED:20220829T191931Z
UID:545-1664024400-1664053200@buffalorockbrewing.com
SUMMARY:OTR Smokehouse Food Truck
DESCRIPTION:
URL:https://buffalorockbrewing.com/event/otr-smokehouse-food-truck/
LOCATION:Buffalo Rock Brewing Company – Waterville\, 345 Anthony Wayne Trail\, Waterville\, OH\, 43566
CATEGORIES:Food Truck
ATTACH;FMTTYPE=image/jpeg:https://buffalorockbrewing.com/wp-content/uploads/2022/05/OTR-Smokehouse.jpg
END:VEVENT
END:VCALENDAR